BEGIN:VCALENDAR
VERSION:2.0
PRODID:-//JBLM Catholic Community - ECPv6.15.20//NONSGML v1.0//EN
CALSCALE:GREGORIAN
METHOD:PUBLISH
X-ORIGINAL-URL:https://jblmcath.com
X-WR-CALDESC:Events for JBLM Catholic Community
REFRESH-INTERVAL;VALUE=DURATION:PT1H
X-Robots-Tag:noindex
X-PUBLISHED-TTL:PT1H
BEGIN:VTIMEZONE
TZID:America/Los_Angeles
BEGIN:DAYLIGHT
TZOFFSETFROM:-0800
TZOFFSETTO:-0700
TZNAME:PDT
DTSTART:20240310T100000
END:DAYLIGHT
BEGIN:STANDARD
TZOFFSETFROM:-0700
TZOFFSETTO:-0800
TZNAME:PST
DTSTART:20241103T090000
END:STANDARD
BEGIN:DAYLIGHT
TZOFFSETFROM:-0800
TZOFFSETTO:-0700
TZNAME:PDT
DTSTART:20250309T100000
END:DAYLIGHT
BEGIN:STANDARD
TZOFFSETFROM:-0700
TZOFFSETTO:-0800
TZNAME:PST
DTSTART:20251102T090000
END:STANDARD
BEGIN:DAYLIGHT
TZOFFSETFROM:-0800
TZOFFSETTO:-0700
TZNAME:PDT
DTSTART:20260308T100000
END:DAYLIGHT
BEGIN:STANDARD
TZOFFSETFROM:-0700
TZOFFSETTO:-0800
TZNAME:PST
DTSTART:20261101T090000
END:STANDARD
END:VTIMEZONE
BEGIN:VEVENT
DTSTART;TZID=America/Los_Angeles:20250404T180000
DTEND;TZID=America/Los_Angeles:20250404T203000
DTSTAMP:20260422T225742
CREATED:20250319T221306Z
LAST-MODIFIED:20250319T221306Z
UID:242620-1743789600-1743798600@jblmcath.com
SUMMARY:Stations of the Cross and Soup Supper
DESCRIPTION:Join us on Friday\, April 4\, 2025 for the Stations of the Cross at the McChord Chapel 2 JBLM at 6:00 PM. Soup Supper to follow sponsored by the McChord Chapel Group.
URL:https://jblmcath.com/event/stations-of-the-cross-and-soup-supper-5/
LOCATION:McChord Field Chapel #2\, 181 Col. Joe Jackson Blvd\, McChord Field\, WA\, 98433\, United States
CATEGORIES:Fellowship
ATTACH;FMTTYPE=image/png:https://jblmcath.com/wp-content/uploads/2025/03/original-1DC2A17C-BA29-4150-8565-C512DFBA1414-e1741271450164.png
END:VEVENT
END:VCALENDAR