BEGIN:VCALENDAR
VERSION:2.0
PRODID:-//JBLM Catholic Community - ECPv6.15.20//NONSGML v1.0//EN
CALSCALE:GREGORIAN
METHOD:PUBLISH
X-ORIGINAL-URL:https://jblmcath.com
X-WR-CALDESC:Events for JBLM Catholic Community
REFRESH-INTERVAL;VALUE=DURATION:PT1H
X-Robots-Tag:noindex
X-PUBLISHED-TTL:PT1H
BEGIN:VTIMEZONE
TZID:America/Los_Angeles
BEGIN:DAYLIGHT
TZOFFSETFROM:-0800
TZOFFSETTO:-0700
TZNAME:PDT
DTSTART:20250309T100000
END:DAYLIGHT
BEGIN:STANDARD
TZOFFSETFROM:-0700
TZOFFSETTO:-0800
TZNAME:PST
DTSTART:20251102T090000
END:STANDARD
BEGIN:DAYLIGHT
TZOFFSETFROM:-0800
TZOFFSETTO:-0700
TZNAME:PDT
DTSTART:20260308T100000
END:DAYLIGHT
BEGIN:STANDARD
TZOFFSETFROM:-0700
TZOFFSETTO:-0800
TZNAME:PST
DTSTART:20261101T090000
END:STANDARD
BEGIN:DAYLIGHT
TZOFFSETFROM:-0800
TZOFFSETTO:-0700
TZNAME:PDT
DTSTART:20270314T100000
END:DAYLIGHT
BEGIN:STANDARD
TZOFFSETFROM:-0700
TZOFFSETTO:-0800
TZNAME:PST
DTSTART:20271107T090000
END:STANDARD
END:VTIMEZONE
BEGIN:VEVENT
DTSTART;VALUE=DATE:20260101
DTEND;VALUE=DATE:20260102
DTSTAMP:20260425T155821
CREATED:20251219T181453Z
LAST-MODIFIED:20251231T032956Z
UID:245436-1767225600-1767311999@jblmcath.com
SUMMARY:New Years Day Mass Schedule (Solemnity of Mary\, the Holy Mother of God) Holy Day of Obligation
DESCRIPTION:Thursday\, January 01\, 2026 – New Years Day Mass Schedule\nSolemnity of Mary\, the Holy Mother of God – Holy Day of Obligation\n0900 AM (Main Post Chapel) \n1030 AM (McChord Chapel #2) \n1200 Noon (Main Post Chapel)
URL:https://jblmcath.com/event/new-years-day-mass-schedule-solemnity-of-mary-the-holy-mother-of-god/
CATEGORIES:Worship
ATTACH;FMTTYPE=image/webp:https://jblmcath.com/wp-content/uploads/2025/12/mother-mary-e1766168486865.webp
END:VEVENT
BEGIN:VEVENT
DTSTART;TZID=America/Los_Angeles:20260124T100000
DTEND;TZID=America/Los_Angeles:20260124T110000
DTSTAMP:20260425T155821
CREATED:20260118T222635Z
LAST-MODIFIED:20260118T222635Z
UID:245785-1769248800-1769252400@jblmcath.com
SUMMARY:Pregnancy and Infant Loss Mass
DESCRIPTION:All are welcome to attend the Pregnancy and Infant Loss Mass. Mass will be at Main Post Chapel on Saturday\, January 24\, 2026 at 10:00 AM. \nChildcare is available during the Mass.
URL:https://jblmcath.com/event/pregnancy-and-infant-loss-mass/
LOCATION:Lewis Main Post Chapel
CATEGORIES:Worship
ATTACH;FMTTYPE=image/jpeg:https://jblmcath.com/wp-content/uploads/2022/11/statue-of-our-lady-and-child-jesus.jpg
END:VEVENT
END:VCALENDAR