BEGIN:VCALENDAR
VERSION:2.0
PRODID:-//JBLM Catholic Community - ECPv6.15.20//NONSGML v1.0//EN
CALSCALE:GREGORIAN
METHOD:PUBLISH
X-WR-CALNAME:JBLM Catholic Community
X-ORIGINAL-URL:https://jblmcath.com
X-WR-CALDESC:Events for JBLM Catholic Community
REFRESH-INTERVAL;VALUE=DURATION:PT1H
X-Robots-Tag:noindex
X-PUBLISHED-TTL:PT1H
BEGIN:VTIMEZONE
TZID:America/Los_Angeles
BEGIN:DAYLIGHT
TZOFFSETFROM:-0800
TZOFFSETTO:-0700
TZNAME:PDT
DTSTART:20240310T100000
END:DAYLIGHT
BEGIN:STANDARD
TZOFFSETFROM:-0700
TZOFFSETTO:-0800
TZNAME:PST
DTSTART:20241103T090000
END:STANDARD
BEGIN:DAYLIGHT
TZOFFSETFROM:-0800
TZOFFSETTO:-0700
TZNAME:PDT
DTSTART:20250309T100000
END:DAYLIGHT
BEGIN:STANDARD
TZOFFSETFROM:-0700
TZOFFSETTO:-0800
TZNAME:PST
DTSTART:20251102T090000
END:STANDARD
BEGIN:DAYLIGHT
TZOFFSETFROM:-0800
TZOFFSETTO:-0700
TZNAME:PDT
DTSTART:20260308T100000
END:DAYLIGHT
BEGIN:STANDARD
TZOFFSETFROM:-0700
TZOFFSETTO:-0800
TZNAME:PST
DTSTART:20261101T090000
END:STANDARD
END:VTIMEZONE
BEGIN:VEVENT
DTSTART;VALUE=DATE:20251208
DTEND;VALUE=DATE:20251209
DTSTAMP:20260422T183226
CREATED:20241206T040827Z
LAST-MODIFIED:20251122T050425Z
UID:241843-1765152000-1765238399@jblmcath.com
SUMMARY:Holy Day of Obligation: Solemnity of the Immaculate Conception
DESCRIPTION:Monday\, December 8\, 2025\nSolemnity of the Immaculate Conception \nHoly Day of Obligation \nMass Schedule: \n12:00 Noon at Lewis Main Post Chapel \n6:00 PM at Lewis Main Post Chapel
URL:https://jblmcath.com/event/solemnity-of-the-immaculate-conception/
LOCATION:Lewis Main Chapel\, Building 2001\, South Liggett and Ninth Division Drive\, Fort Lewis\, WA\, 98433\, United States
CATEGORIES:Holy Day of Obligation
ATTACH;FMTTYPE=image/png:https://jblmcath.com/wp-content/uploads/2024/12/original-90BC93C7-6F18-4235-B5D2-5313F7BE3811-e1763787706667.png
END:VEVENT
END:VCALENDAR