BEGIN:VCALENDAR
VERSION:2.0
PRODID:-//JBLM Catholic Community - ECPv6.15.20//NONSGML v1.0//EN
CALSCALE:GREGORIAN
METHOD:PUBLISH
X-WR-CALNAME:JBLM Catholic Community
X-ORIGINAL-URL:https://jblmcath.com
X-WR-CALDESC:Events for JBLM Catholic Community
REFRESH-INTERVAL;VALUE=DURATION:PT1H
X-Robots-Tag:noindex
X-PUBLISHED-TTL:PT1H
BEGIN:VTIMEZONE
TZID:America/Los_Angeles
BEGIN:DAYLIGHT
TZOFFSETFROM:-0800
TZOFFSETTO:-0700
TZNAME:PDT
DTSTART:20250309T100000
END:DAYLIGHT
BEGIN:STANDARD
TZOFFSETFROM:-0700
TZOFFSETTO:-0800
TZNAME:PST
DTSTART:20251102T090000
END:STANDARD
BEGIN:DAYLIGHT
TZOFFSETFROM:-0800
TZOFFSETTO:-0700
TZNAME:PDT
DTSTART:20260308T100000
END:DAYLIGHT
BEGIN:STANDARD
TZOFFSETFROM:-0700
TZOFFSETTO:-0800
TZNAME:PST
DTSTART:20261101T090000
END:STANDARD
BEGIN:DAYLIGHT
TZOFFSETFROM:-0800
TZOFFSETTO:-0700
TZNAME:PDT
DTSTART:20270314T100000
END:DAYLIGHT
BEGIN:STANDARD
TZOFFSETFROM:-0700
TZOFFSETTO:-0800
TZNAME:PST
DTSTART:20271107T090000
END:STANDARD
END:VTIMEZONE
BEGIN:VEVENT
DTSTART;TZID=America/Los_Angeles:20260421T180000
DTEND;TZID=America/Los_Angeles:20260421T200000
DTSTAMP:20260419T182454
CREATED:20260303T065726Z
LAST-MODIFIED:20260323T050438Z
UID:246000-1776794400-1776801600@jblmcath.com
SUMMARY:Knights of Columbus Monthly Meeting
DESCRIPTION:Our Mission\nTogether\, we’re empowering Catholic men to live their faith at home\, in their parish\, at work and in their community. \nFour Chaplains Council 10652 \nMeets every 3rd Tuesday of the Month\n6:00 pm at JBLM Main Post Chapel\nPhone: (808) 347-0401\nEmail: thomasoroho@yahoo.com \nIf you are not a Knight\, please contact Tom Oroho at thomasoroho@yahoo.com
URL:https://jblmcath.com/event/knights-of-columbus-monthly-meeting-11/
LOCATION:Lewis Main Chapel\, Fellowship Hall/Activity Room\, Bldg 2001\, South Liggett and Ninth Division Drive\, Fort Lewis\, WA\, 98433\, United States
CATEGORIES:Knights of Columbus
ATTACH;FMTTYPE=image/png:https://jblmcath.com/wp-content/uploads/2022/11/kofc_r_emblem_rgb_pos.png
END:VEVENT
BEGIN:VEVENT
DTSTART;TZID=America/Los_Angeles:20260426T130000
DTEND;TZID=America/Los_Angeles:20260426T140000
DTSTAMP:20260419T182454
CREATED:20260419T182421Z
LAST-MODIFIED:20260419T182421Z
UID:246168-1777208400-1777212000@jblmcath.com
SUMMARY:Holy Hour for Vocations
DESCRIPTION:Please join the Saint Michael the Archangel Catholic Community\, JBLM-McChord to celebrate the \nWorld Day of Prayer for Vocations – Holy Hour for Vocations \nA day dedicated to ordained ministries and consecrated life in all its forms \nWhen: Sunday\, April 26\, 2026 after the 12 noon Mass \nWhere: Main Post Chapel\, JBLM
URL:https://jblmcath.com/event/holy-hour-for-vocations/
LOCATION:Lewis Main Chapel\, Building 2001\, South Liggett and Ninth Division Drive\, Fort Lewis\, WA\, 98433\, United States
CATEGORIES:Fellowship
ATTACH;FMTTYPE=image/png:https://jblmcath.com/wp-content/uploads/2026/04/Holy-Hour-for-Vocations-e1776623011287.png
END:VEVENT
BEGIN:VEVENT
DTSTART;TZID=America/Los_Angeles:20260427T180000
DTEND;TZID=America/Los_Angeles:20260427T193000
DTSTAMP:20260419T182454
CREATED:20260419T203441Z
LAST-MODIFIED:20260419T203441Z
UID:246176-1777312800-1777318200@jblmcath.com
SUMMARY:Parish Church Council Meeting
DESCRIPTION:Meeting will be in the MPC at 1800 hours in the basement conference room.
URL:https://jblmcath.com/event/parish-church-council-meeting/
LOCATION:Lewis Main Chapel\, Basement Conference Room
CATEGORIES:Parish Church Council
ATTACH;FMTTYPE=image/webp:https://jblmcath.com/wp-content/uploads/2022/11/jblmcathlogo-dark.webp
END:VEVENT
BEGIN:VEVENT
DTSTART;TZID=America/Los_Angeles:20260429T180000
DTEND;TZID=America/Los_Angeles:20260429T200000
DTSTAMP:20260419T182454
CREATED:20260303T062137Z
LAST-MODIFIED:20260419T181717Z
UID:245984-1777485600-1777492800@jblmcath.com
SUMMARY:Catholic Teen Girls Club Meeting - Craft Night
DESCRIPTION:Catholic Teen Girls Club\nJoin us to make Catholic friends and learn about the Catholic Social Teachings – Ascension Press Study: “Connected” Catholic Social Teaching for this Generation. \nFor more information\, contact Alexandria at agroche97@gmail.com \n  \n  \n 
URL:https://jblmcath.com/event/catholic-teen-girls-club-meeting/
LOCATION:Lewis Main Chapel\, Basement Conference Room
CATEGORIES:Youth
ATTACH;FMTTYPE=image/jpeg:https://jblmcath.com/wp-content/uploads/2026/03/image0.jpeg
END:VEVENT
BEGIN:VEVENT
DTSTART;TZID=America/Los_Angeles:20260606T173000
DTEND;TZID=America/Los_Angeles:20260606T193000
DTSTAMP:20260419T182454
CREATED:20260416T232859Z
LAST-MODIFIED:20260416T232859Z
UID:246160-1780767000-1780774200@jblmcath.com
SUMMARY:JBLM Father-Daughter Dance
DESCRIPTION:JBLM Religious Support Office present the 2026 \nButterfly Kisses Father-Daughter Dance\nGet ready for fun night of music and memories at the JBLM RSO Father-Daughter dance – can’t wait to see you there! \nAll ages are welcome and at no cost. \nSupported by: Protestant Women of the Chapel \nDonations from: Grace Gospel\, Chapel Next\, JBLM Catholic Community and McChord Protestant Service \nWhere: American Lake Conference Center \nWhen: Saturday\, June 6\, 2026 at 5:30 PM to 7:30 PM \nPlease RSVP using this link: https://www.eventbrite.com/e/jblm-religious-support-office-father-daughter-dance-tickets-1987439845077
URL:https://jblmcath.com/event/jblm-father-daughter-dance-2/
LOCATION:American Lake Conference Center
CATEGORIES:Fellowship
ATTACH;FMTTYPE=image/png:https://jblmcath.com/wp-content/uploads/2026/04/Father-Daughter-Dance-2026.png
END:VEVENT
END:VCALENDAR