BEGIN:VCALENDAR
VERSION:2.0
PRODID:-//JBLM Catholic Community - ECPv6.15.20//NONSGML v1.0//EN
CALSCALE:GREGORIAN
METHOD:PUBLISH
X-ORIGINAL-URL:https://jblmcath.com
X-WR-CALDESC:Events for JBLM Catholic Community
REFRESH-INTERVAL;VALUE=DURATION:PT1H
X-Robots-Tag:noindex
X-PUBLISHED-TTL:PT1H
BEGIN:VTIMEZONE
TZID:America/Los_Angeles
BEGIN:DAYLIGHT
TZOFFSETFROM:-0800
TZOFFSETTO:-0700
TZNAME:PDT
DTSTART:20240310T100000
END:DAYLIGHT
BEGIN:STANDARD
TZOFFSETFROM:-0700
TZOFFSETTO:-0800
TZNAME:PST
DTSTART:20241103T090000
END:STANDARD
BEGIN:DAYLIGHT
TZOFFSETFROM:-0800
TZOFFSETTO:-0700
TZNAME:PDT
DTSTART:20250309T100000
END:DAYLIGHT
BEGIN:STANDARD
TZOFFSETFROM:-0700
TZOFFSETTO:-0800
TZNAME:PST
DTSTART:20251102T090000
END:STANDARD
BEGIN:DAYLIGHT
TZOFFSETFROM:-0800
TZOFFSETTO:-0700
TZNAME:PDT
DTSTART:20260308T100000
END:DAYLIGHT
BEGIN:STANDARD
TZOFFSETFROM:-0700
TZOFFSETTO:-0800
TZNAME:PST
DTSTART:20261101T090000
END:STANDARD
END:VTIMEZONE
BEGIN:VEVENT
DTSTART;TZID=America/Los_Angeles:20251210T180000
DTEND;TZID=America/Los_Angeles:20251210T200000
DTSTAMP:20260422T164532
CREATED:20241208T143358Z
LAST-MODIFIED:20251122T051444Z
UID:241881-1765389600-1765396800@jblmcath.com
SUMMARY:Advent Penance Service
DESCRIPTION:Advent Communal Day of Reconciliation at 6:00 PM Lewis Main Post Chapel.
URL:https://jblmcath.com/event/advent-penance/
LOCATION:Lewis Main Post Chapel
CATEGORIES:Prayer Service
ATTACH;FMTTYPE=image/jpeg:https://jblmcath.com/wp-content/uploads/2024/12/original-60FEDE17-C06F-4B6E-BBFF-A30AFC2882AF-1-e1763788472546.jpeg
END:VEVENT
END:VCALENDAR