BEGIN:VCALENDAR
VERSION:2.0
PRODID:-//JBLM Catholic Community - ECPv6.15.20//NONSGML v1.0//EN
CALSCALE:GREGORIAN
METHOD:PUBLISH
X-WR-CALNAME:JBLM Catholic Community
X-ORIGINAL-URL:https://jblmcath.com
X-WR-CALDESC:Events for JBLM Catholic Community
REFRESH-INTERVAL;VALUE=DURATION:PT1H
X-Robots-Tag:noindex
X-PUBLISHED-TTL:PT1H
BEGIN:VTIMEZONE
TZID:America/Los_Angeles
BEGIN:DAYLIGHT
TZOFFSETFROM:-0800
TZOFFSETTO:-0700
TZNAME:PDT
DTSTART:20210314T100000
END:DAYLIGHT
BEGIN:STANDARD
TZOFFSETFROM:-0700
TZOFFSETTO:-0800
TZNAME:PST
DTSTART:20211107T090000
END:STANDARD
BEGIN:DAYLIGHT
TZOFFSETFROM:-0800
TZOFFSETTO:-0700
TZNAME:PDT
DTSTART:20220313T100000
END:DAYLIGHT
BEGIN:STANDARD
TZOFFSETFROM:-0700
TZOFFSETTO:-0800
TZNAME:PST
DTSTART:20221106T090000
END:STANDARD
BEGIN:DAYLIGHT
TZOFFSETFROM:-0800
TZOFFSETTO:-0700
TZNAME:PDT
DTSTART:20230312T100000
END:DAYLIGHT
BEGIN:STANDARD
TZOFFSETFROM:-0700
TZOFFSETTO:-0800
TZNAME:PST
DTSTART:20231105T090000
END:STANDARD
BEGIN:DAYLIGHT
TZOFFSETFROM:-0800
TZOFFSETTO:-0700
TZNAME:PDT
DTSTART:20240310T100000
END:DAYLIGHT
BEGIN:STANDARD
TZOFFSETFROM:-0700
TZOFFSETTO:-0800
TZNAME:PST
DTSTART:20241103T090000
END:STANDARD
BEGIN:DAYLIGHT
TZOFFSETFROM:-0800
TZOFFSETTO:-0700
TZNAME:PDT
DTSTART:20250309T100000
END:DAYLIGHT
BEGIN:STANDARD
TZOFFSETFROM:-0700
TZOFFSETTO:-0800
TZNAME:PST
DTSTART:20251102T090000
END:STANDARD
BEGIN:DAYLIGHT
TZOFFSETFROM:-0800
TZOFFSETTO:-0700
TZNAME:PDT
DTSTART:20260308T100000
END:DAYLIGHT
BEGIN:STANDARD
TZOFFSETFROM:-0700
TZOFFSETTO:-0800
TZNAME:PST
DTSTART:20261101T090000
END:STANDARD
BEGIN:DAYLIGHT
TZOFFSETFROM:-0800
TZOFFSETTO:-0700
TZNAME:PDT
DTSTART:20270314T100000
END:DAYLIGHT
BEGIN:STANDARD
TZOFFSETFROM:-0700
TZOFFSETTO:-0800
TZNAME:PST
DTSTART:20271107T090000
END:STANDARD
END:VTIMEZONE
BEGIN:VEVENT
DTSTART;TZID=America/Los_Angeles:20260421T180000
DTEND;TZID=America/Los_Angeles:20260421T200000
DTSTAMP:20260424T021041
CREATED:20260303T065726Z
LAST-MODIFIED:20260323T050438Z
UID:246000-1776794400-1776801600@jblmcath.com
SUMMARY:Knights of Columbus Monthly Meeting
DESCRIPTION:Our Mission\nTogether\, we’re empowering Catholic men to live their faith at home\, in their parish\, at work and in their community. \nFour Chaplains Council 10652 \nMeets every 3rd Tuesday of the Month\n6:00 pm at JBLM Main Post Chapel\nPhone: (808) 347-0401\nEmail: thomasoroho@yahoo.com \nIf you are not a Knight\, please contact Tom Oroho at thomasoroho@yahoo.com
URL:https://jblmcath.com/event/knights-of-columbus-monthly-meeting-11/
LOCATION:Lewis Main Chapel\, Fellowship Hall/Activity Room\, Bldg 2001\, South Liggett and Ninth Division Drive\, Fort Lewis\, WA\, 98433\, United States
CATEGORIES:Knights of Columbus
ATTACH;FMTTYPE=image/png:https://jblmcath.com/wp-content/uploads/2022/11/kofc_r_emblem_rgb_pos.png
END:VEVENT
BEGIN:VEVENT
DTSTART;TZID=America/Los_Angeles:20260317T180000
DTEND;TZID=America/Los_Angeles:20260317T200000
DTSTAMP:20260424T021041
CREATED:20260110T140059Z
LAST-MODIFIED:20260303T065220Z
UID:242956-1773770400-1773777600@jblmcath.com
SUMMARY:Knights of Columbus Monthly Meeting
DESCRIPTION:Our Mission\nTogether\, we’re empowering Catholic men to live their faith at home\, in their parish\, at work and in their community. \nFour Chaplains Council 10652 \nMeets every 3rd Tuesday of the Month\n6:00 pm at JBLM Main Post Chapel\nPhone: (808) 347-0401\nEmail: thomasoroho@yahoo.com \nIf you are not a Knight\, please contact Tom Oroho at thomasoroho@yahoo.com
URL:https://jblmcath.com/event/knights-of-columbus-monthly-meeting-9/
LOCATION:Lewis Main Chapel\, Fellowship Hall/Activity Room\, Bldg 2001\, South Liggett and Ninth Division Drive\, Fort Lewis\, WA\, 98433\, United States
CATEGORIES:Knights of Columbus
ATTACH;FMTTYPE=image/png:https://jblmcath.com/wp-content/uploads/2022/11/kofc_r_emblem_rgb_pos.png
END:VEVENT
BEGIN:VEVENT
DTSTART;TZID=America/Los_Angeles:20260120T180000
DTEND;TZID=America/Los_Angeles:20260120T200000
DTSTAMP:20260424T021041
CREATED:20260111T020333Z
LAST-MODIFIED:20260111T020400Z
UID:245732-1768932000-1768939200@jblmcath.com
SUMMARY:Knights of Columbus Monthly Meeting
DESCRIPTION:Our Mission\nTogether\, we’re empowering Catholic men to live their faith at home\, in their parish\, at work and in their community. \nFour Chaplains Council 10652\nMeets every 3rd Tuesday of the Month\n6:00 pm at JBLM Main Post Chapel\nPhone: (808) 347-0401\nEmail: thomasoroho@yahoo.com \nIf you are not a Knight\, please contact Tom Oroho at thomasoroho@yahoo.com
URL:https://jblmcath.com/event/knights-of-columbus-monthly-meeting-10/
LOCATION:Lewis Main Chapel\, Fellowship Hall/Activity Room\, Bldg 2001\, South Liggett and Ninth Division Drive\, Fort Lewis\, WA\, 98433\, United States
CATEGORIES:Knights of Columbus
ATTACH;FMTTYPE=image/png:https://jblmcath.com/wp-content/uploads/2022/11/kofc_r_emblem_rgb_rev.png
END:VEVENT
BEGIN:VEVENT
DTSTART;TZID=America/Los_Angeles:20251216T180000
DTEND;TZID=America/Los_Angeles:20251216T200000
DTSTAMP:20260424T021041
CREATED:20250331T043602Z
LAST-MODIFIED:20251122T045417Z
UID:242734-1765908000-1765915200@jblmcath.com
SUMMARY:Knights of Columbus Monthly Meeting
DESCRIPTION:Our Mission\nTogether\, we’re empowering Catholic men to live their faith at home\, in their parish\, at work and in their community. \nFour Chaplains Council 10652\nMeets every 3rd Tuesday of the Month\n6:00 pm at JBLM Main Post Chapel\nPhone: (808) 347-0401\nEmail: thomasoroho@yahoo.com \nIf you are not a Knight\, please contact Tom Oroho at thomasoroho@yahoo.com
URL:https://jblmcath.com/event/knights-of-columbus-monthly-meeting-8/
LOCATION:Lewis Main Chapel\, Fellowship Hall/Activity Room\, Bldg 2001\, South Liggett and Ninth Division Drive\, Fort Lewis\, WA\, 98433\, United States
CATEGORIES:Knights of Columbus
ATTACH;FMTTYPE=image/png:https://jblmcath.com/wp-content/uploads/2022/11/kofc_r_emblem_rgb_pos.png
END:VEVENT
BEGIN:VEVENT
DTSTART;TZID=America/Los_Angeles:20251212T180000
DTEND;TZID=America/Los_Angeles:20251212T203000
DTSTAMP:20260424T021041
CREATED:20251125T231429Z
LAST-MODIFIED:20251125T231429Z
UID:245314-1765562400-1765571400@jblmcath.com
SUMMARY:The Feast of Our Lady of Guadalupe Candlelight Mass\, Silver Rose Adoration & Potluck
DESCRIPTION:Please join us to celebrate The Feast of Our Lady of Guadalupe at 6:00 PM on Friday\, 12 December 2025 at the Main Post Chapel. \nCandlelight Mass with Silver Rose devotions during Adoration presented by The Knights of Columbus. Followed by Potluck party. \nPlease bring a dish to share. Those attending the party are dispensed from the obligation to perform any other act of penance that Friday. \nDishes for the potluck can contain meat. Mexican dishes are encouraged.
URL:https://jblmcath.com/event/the-feast-of-our-lady-of-guadalupe-candlelight-mass-silver-rose-adoration-potluck/
LOCATION:Lewis Main Post Chapel
CATEGORIES:Knights of Columbus
ATTACH;FMTTYPE=image/jpeg:https://jblmcath.com/wp-content/uploads/2025/11/roses-e1764112407950.jpg
END:VEVENT
BEGIN:VEVENT
DTSTART;TZID=America/Los_Angeles:20250318T180000
DTEND;TZID=America/Los_Angeles:20250318T200000
DTSTAMP:20260424T021041
CREATED:20250310T191555Z
LAST-MODIFIED:20250310T191555Z
UID:242501-1742320800-1742328000@jblmcath.com
SUMMARY:Knights of Columbus Monthly Meeting
DESCRIPTION:Join us for our monthly meeting every third Tuesday of the month at the Fellowship Hall of the Main Post Chapel. \nIf you are not a Knight\, please contact Tom Oroho at thomasoroho@yahoo.com
URL:https://jblmcath.com/event/knights-of-columbus-monthly-meeting-7/
LOCATION:Lewis Main Chapel\, Fellowship Hall/Activity Room\, Bldg 2001\, South Liggett and Ninth Division Drive\, Fort Lewis\, WA\, 98433\, United States
CATEGORIES:Knights of Columbus
ATTACH;FMTTYPE=image/png:https://jblmcath.com/wp-content/uploads/2022/11/kofc_r_emblem_rgb_pos.png
END:VEVENT
BEGIN:VEVENT
DTSTART;VALUE=DATE:20250308
DTEND;VALUE=DATE:20250421
DTSTAMP:20260424T021041
CREATED:20250313T134245Z
LAST-MODIFIED:20250313T134245Z
UID:242532-1741392000-1745193599@jblmcath.com
SUMMARY:Food For Families Donation Drive
DESCRIPTION:JBLM Catholic Community Food For Families Drive sponsored by the Knights of Columbus \nFrom March 8 – April 20 \nFood For Families will take place during lent. Collection boxes will be in the entrance area of the chapel. \nSuggested items include canned goods\, dry cereals\, spices and oil\, snack items and all non-perishable food. \n 
URL:https://jblmcath.com/event/food-for-families-donation-drive/
LOCATION:Lewis Main Chapel\, Building 2001\, South Liggett and Ninth Division Drive\, Fort Lewis\, WA\, 98433\, United States
CATEGORIES:Knights of Columbus
ATTACH;FMTTYPE=image/png:https://jblmcath.com/wp-content/uploads/2025/03/original-A058C6D1-B37C-4F5A-A306-19BAE83D02ED-e1741873174187.png
END:VEVENT
BEGIN:VEVENT
DTSTART;TZID=America/Los_Angeles:20250218T180000
DTEND;TZID=America/Los_Angeles:20250218T200000
DTSTAMP:20260424T021041
CREATED:20250204T061744Z
LAST-MODIFIED:20250204T061744Z
UID:242244-1739901600-1739908800@jblmcath.com
SUMMARY:Knights of Columbus Monthly Meeting
DESCRIPTION:Join us for our monthly meeting every third Tuesday of the month at the Fellowship Hall of the Main Post Chapel. \nIf you are not a Knight\, please contact Tom Oroho at thomasoroho@yahoo.com
URL:https://jblmcath.com/event/knights-of-columbus-monthly-meeting-6/
LOCATION:Lewis Main Chapel\, Fellowship Hall/Activity Room\, Bldg 2001\, South Liggett and Ninth Division Drive\, Fort Lewis\, WA\, 98433\, United States
CATEGORIES:Knights of Columbus
ATTACH;FMTTYPE=image/png:https://jblmcath.com/wp-content/uploads/2022/11/kofc_r_emblem_rgb_pos.png
END:VEVENT
BEGIN:VEVENT
DTSTART;TZID=America/Los_Angeles:20250124T120000
DTEND;TZID=America/Los_Angeles:20250124T130000
DTSTAMP:20260424T021041
CREATED:20250117T043839Z
LAST-MODIFIED:20250117T043839Z
UID:242110-1737720000-1737723600@jblmcath.com
SUMMARY:Mass for Life
DESCRIPTION:Mass For Life \nWhen: 12:00 noon Friday\, January 24\, 2024 \nWhere: Main Post Chapel\, JBLM \nRecitation of the Rosary for Life prior to Mass \nExposition of the Blessed Sacrament following Mass
URL:https://jblmcath.com/event/mass-for-life/
LOCATION:WA
CATEGORIES:Daily Mass,Knights of Columbus
ATTACH;FMTTYPE=image/jpeg:https://jblmcath.com/wp-content/uploads/2025/01/IMG_4162.jpeg
END:VEVENT
BEGIN:VEVENT
DTSTART;TZID=America/Los_Angeles:20250121T180000
DTEND;TZID=America/Los_Angeles:20250121T200000
DTSTAMP:20260424T021041
CREATED:20250109T064729Z
LAST-MODIFIED:20250109T064729Z
UID:242041-1737482400-1737489600@jblmcath.com
SUMMARY:Knights of Columbus Monthly Meeting
DESCRIPTION:Join us for our monthly meeting every third Tuesday of the month at the Fellowship Hall of the Main Post Chapel. \nIf you are not a Knight\, please contact Tom Oroho at thomasoroho@yahoo.com
URL:https://jblmcath.com/event/knights-of-columbus-monthly-meeting-5/
LOCATION:Lewis Main Chapel\, Fellowship Hall/Activity Room\, Bldg 2001\, South Liggett and Ninth Division Drive\, Fort Lewis\, WA\, 98433\, United States
CATEGORIES:Knights of Columbus
ATTACH;FMTTYPE=image/png:https://jblmcath.com/wp-content/uploads/2022/11/kofc_r_emblem_rgb_pos.png
END:VEVENT
BEGIN:VEVENT
DTSTART;TZID=America/Los_Angeles:20250118T151500
DTEND;TZID=America/Los_Angeles:20250118T170000
DTSTAMP:20260424T021041
CREATED:20250115T002312Z
LAST-MODIFIED:20250115T002312Z
UID:242098-1737213300-1737219600@jblmcath.com
SUMMARY:Knights of Columbus Free Throw Championship
DESCRIPTION:All boys and girls ages 9 – 14 are invited to participate in the 2025 Knights of Columbus Free Throw Championship!  The local competition is Saturday\, January 18th in the Hillside Youth Center Gym at 6397 Garcia Blvd\, JBLM Main at 3:15 PM. \nEach participant will get three warm up shots followed by 15 free throws.  Boys and girls ages 9 – 11 will shoot from a 12-foot foul line using a smaller basketball.  Boys and girls ages 12 – 14 will shoot from the regulation 15-foot foul line.  Boys will shoot with a regulation basketball and girls will shoot with the smaller ball. \nAll contestants will compete with kids their own age and everyone will receive a certificate of participation.  The Knights of Columbus Free Throw Championship is held every year\, with winners in each age group progressing through local\, district and state competitions. \nFor entry forms or more information\, please contact Greg Kaufman at 253-970-3238\, or stop by the CYS Youth Sports Office on Garcia Blvd.
URL:https://jblmcath.com/event/knights-of-columbus-free-throw-championship/
LOCATION:Hillside Youth Center Gym at 6397 Garcia Blvd\, JBLM Main\, 6397 Garcia Blvd\, JBLM Main Post
CATEGORIES:Fellowship,Knights of Columbus
ATTACH;FMTTYPE=image/png:https://jblmcath.com/wp-content/uploads/2025/01/KofC-basketball.png
END:VEVENT
BEGIN:VEVENT
DTSTART;TZID=America/Los_Angeles:20250121T180000
DTEND;TZID=America/Los_Angeles:20250121T200000
DTSTAMP:20260424T021041
CREATED:20240904T172701Z
LAST-MODIFIED:20250109T064516Z
UID:241466-1737482400-1737489600@jblmcath.com
SUMMARY:Knights of Columbus Monthly Meeting
DESCRIPTION:Join us for our monthly meeting every third Tuesday of the month at the Fellowship Hall of the Main Post Chapel. \nIf you are not a Knight\, please contact Tom Oroho at thomasoroho@yahoo.com
URL:https://jblmcath.com/event/knights-of-columbus-monthly-meeting-3/
LOCATION:Lewis Main Chapel\, Fellowship Hall/Activity Room\, Bldg 2001\, South Liggett and Ninth Division Drive\, Fort Lewis\, WA\, 98433\, United States
CATEGORIES:Knights of Columbus
ATTACH;FMTTYPE=image/png:https://jblmcath.com/wp-content/uploads/2022/11/kofc_r_emblem_rgb_rev.png
END:VEVENT
BEGIN:VEVENT
DTSTART;TZID=America/Los_Angeles:20241015T180000
DTEND;TZID=America/Los_Angeles:20241015T200000
DTSTAMP:20260424T021041
CREATED:20240923T214041Z
LAST-MODIFIED:20240923T214041Z
UID:241550-1729015200-1729022400@jblmcath.com
SUMMARY:Knights of Columbus Monthly Meeting
DESCRIPTION:Join us for our monthly meeting every third Tuesday of the month at the Fellowship Hall of the Main Post Chapel. \nIf you are not a Knight\, please contact Tom Oroho at thomasoroho@yahoo.com
URL:https://jblmcath.com/event/knights-of-columbus-monthly-meeting-4/
LOCATION:Lewis Main Chapel\, Fellowship Hall/Activity Room\, Bldg 2001\, South Liggett and Ninth Division Drive\, Fort Lewis\, WA\, 98433\, United States
CATEGORIES:Knights of Columbus
ATTACH;FMTTYPE=image/png:https://jblmcath.com/wp-content/uploads/2022/11/kofc_r_emblem_rgb_rev.png
END:VEVENT
BEGIN:VEVENT
DTSTART;TZID=America/Los_Angeles:20240820T180000
DTEND;TZID=America/Los_Angeles:20240820T200000
DTSTAMP:20260424T021041
CREATED:20240809T141902Z
LAST-MODIFIED:20240809T141902Z
UID:241337-1724176800-1724184000@jblmcath.com
SUMMARY:Knights of Columbus Monthly Meeting
DESCRIPTION:Join us for our monthly meeting. If you are not a Knight contact Tom Oroho.
URL:https://jblmcath.com/event/knights-of-columbus-monthly-meeting-2/
LOCATION:Lewis Main Chapel\, Fellowship Hall/Activity Room\, Bldg 2001\, South Liggett and Ninth Division Drive\, Fort Lewis\, WA\, 98433\, United States
CATEGORIES:Knights of Columbus
ATTACH;FMTTYPE=image/png:https://jblmcath.com/wp-content/uploads/2022/11/kofc_r_emblem_rgb_rev.png
END:VEVENT
BEGIN:VEVENT
DTSTART;VALUE=DATE:20231119
DTEND;VALUE=DATE:20231120
DTSTAMP:20260424T021041
CREATED:20230804T191929Z
LAST-MODIFIED:20231023T154231Z
UID:239215-1700352000-1700438399@jblmcath.com
SUMMARY:Designated Offering - Knights of Columbus
DESCRIPTION:This desinated offering bennifits the ministry of our local K of C chaper.
URL:https://jblmcath.com/event/designated-offereing-knights-of-columbus/
LOCATION:WA
CATEGORIES:Designated Offering,Featured,Knights of Columbus
ATTACH;FMTTYPE=image/png:https://jblmcath.com/wp-content/uploads/2022/11/kofc_r_emblem_rgb_rev.png
END:VEVENT
BEGIN:VEVENT
DTSTART;TZID=America/Los_Angeles:20231212T173000
DTEND;TZID=America/Los_Angeles:20231212T183000
DTSTAMP:20260424T021041
CREATED:20231127T183703Z
LAST-MODIFIED:20231127T183703Z
UID:239725-1702402200-1702405800@jblmcath.com
SUMMARY:K of C Silver Rose Prayer for Life Service
DESCRIPTION:
URL:https://jblmcath.com/event/k-of-c-silver-rose-prayer-for-life-service/
LOCATION:Lewis Main Chapel\, Building 2001\, South Liggett and Ninth Division Drive\, Fort Lewis\, WA\, 98433\, United States
CATEGORIES:Featured,Knights of Columbus,Worship
ATTACH;FMTTYPE=image/jpeg:https://jblmcath.com/wp-content/uploads/2023/11/silver-rose-devotion.jpg
ORGANIZER;CN="Ron DeMorse":MAILTO:demo_71@hotmail.com
END:VEVENT
BEGIN:VEVENT
DTSTART;VALUE=DATE:20231119
DTEND;VALUE=DATE:20231120
DTSTAMP:20260424T021041
CREATED:20230804T191929Z
LAST-MODIFIED:20231023T154231Z
UID:239215-1700352000-1700438399@jblmcath.com
SUMMARY:Designated Offering - Knights of Columbus
DESCRIPTION:This desinated offering bennifits the ministry of our local K of C chaper.
URL:https://jblmcath.com/event/designated-offereing-knights-of-columbus/
LOCATION:WA
CATEGORIES:Designated Offering,Featured,Knights of Columbus
ATTACH;FMTTYPE=image/png:https://jblmcath.com/wp-content/uploads/2022/11/kofc_r_emblem_rgb_rev.png
END:VEVENT
BEGIN:VEVENT
DTSTART;VALUE=DATE:20230119
DTEND;VALUE=DATE:20230128
DTSTAMP:20260424T021041
CREATED:20230119T233110Z
LAST-MODIFIED:20230119T233110Z
UID:235851-1674086400-1674863999@jblmcath.com
SUMMARY:Novena for Life
DESCRIPTION:The novena will conclude on the 27th following the Noon Mass.  9 Days for Life is a novena for the protection of human life. Each day’s intention is accompanied by a short reflection and suggested actions to help build a culture of life. Join today at www.9daysforlife.com!
URL:https://jblmcath.com/event/novena-for-life/
LOCATION:WA
CATEGORIES:Featured,Knights of Columbus
ATTACH;FMTTYPE=image/jpeg:https://jblmcath.com/wp-content/uploads/2023/01/9daysforlife-1.jpg
END:VEVENT
BEGIN:VEVENT
DTSTART;TZID=America/Los_Angeles:20221212T173000
DTEND;TZID=America/Los_Angeles:20221212T183000
DTSTAMP:20260424T021041
CREATED:20221128T181014Z
LAST-MODIFIED:20221128T181014Z
UID:234302-1670866200-1670869800@jblmcath.com
SUMMARY:K of C Silver Rose Prayer Service
DESCRIPTION:Please join the Knights of Columbus Silver Rose prayer service on December 12 at 5:30pm at the Main Post Chapel.  The Silver Rose service shares the message of Our Lady of Guadalupe and promotes the dignity of all human life.
URL:https://jblmcath.com/event/k-of-c-silver-rose-prayer-service/
LOCATION:Lewis Main Chapel\, Building 2001\, South Liggett and Ninth Division Drive\, Fort Lewis\, WA\, 98433\, United States
CATEGORIES:Knights of Columbus,Prayer Service
ATTACH;FMTTYPE=image/webp:https://jblmcath.com/wp-content/uploads/2022/11/silverrose.webp
END:VEVENT
END:VCALENDAR