BEGIN:VCALENDAR
VERSION:2.0
PRODID:-//JBLM Catholic Community - ECPv6.15.20//NONSGML v1.0//EN
CALSCALE:GREGORIAN
METHOD:PUBLISH
X-ORIGINAL-URL:https://jblmcath.com
X-WR-CALDESC:Events for JBLM Catholic Community
REFRESH-INTERVAL;VALUE=DURATION:PT1H
X-Robots-Tag:noindex
X-PUBLISHED-TTL:PT1H
BEGIN:VTIMEZONE
TZID:America/Los_Angeles
BEGIN:DAYLIGHT
TZOFFSETFROM:-0800
TZOFFSETTO:-0700
TZNAME:PDT
DTSTART:20230312T100000
END:DAYLIGHT
BEGIN:STANDARD
TZOFFSETFROM:-0700
TZOFFSETTO:-0800
TZNAME:PST
DTSTART:20231105T090000
END:STANDARD
BEGIN:DAYLIGHT
TZOFFSETFROM:-0800
TZOFFSETTO:-0700
TZNAME:PDT
DTSTART:20240310T100000
END:DAYLIGHT
BEGIN:STANDARD
TZOFFSETFROM:-0700
TZOFFSETTO:-0800
TZNAME:PST
DTSTART:20241103T090000
END:STANDARD
BEGIN:DAYLIGHT
TZOFFSETFROM:-0800
TZOFFSETTO:-0700
TZNAME:PDT
DTSTART:20250309T100000
END:DAYLIGHT
BEGIN:STANDARD
TZOFFSETFROM:-0700
TZOFFSETTO:-0800
TZNAME:PST
DTSTART:20251102T090000
END:STANDARD
END:VTIMEZONE
BEGIN:VEVENT
DTSTART;TZID=America/Los_Angeles:20241112T180000
DTEND;TZID=America/Los_Angeles:20241112T200000
DTSTAMP:20260424T021022
CREATED:20240923T212235Z
LAST-MODIFIED:20241108T213014Z
UID:241543-1731434400-1731441600@jblmcath.com
SUMMARY:CWOC Tuesday Evening Faith Study Meeting
DESCRIPTION:All women are invited to the Catholic Women of the Church weekly Tuesday evening faith study meetings. \nJoin us as we discuss The Interior Castle by Saint Theresa of Avila.If you did not get a copy at the last meeting you read herehttps://archive.org/…/TheInteriorCastleOrTheMansions.pdf\ncan listen here https://youtu.be/J63e3XNA9WA?si=oDzm3y9eeYXIktSCPlease note the translations may be slightly different than what we are reading.\n\n\nPlease bring a dish to share but as always\, you can just bring yourself!\n\n\nFor more information about JBLM CWOC and other events\, please visit our Facebook Group: https://www.facebook.com/groups/588276761355700
URL:https://jblmcath.com/event/cwoc-tuesday-evening-faith-study-meeting-3/
LOCATION:Four Chaplains Memorial Chapel
CATEGORIES:Catholic Women of the Chapel
ATTACH;FMTTYPE=image/png:https://jblmcath.com/wp-content/uploads/2024/09/36780796_211703562814574_756914181201985536_n.png
END:VEVENT
BEGIN:VEVENT
DTSTART;TZID=America/Los_Angeles:20241024T093000
DTEND;TZID=America/Los_Angeles:20241024T113000
DTSTAMP:20260424T021022
CREATED:20241023T050837Z
LAST-MODIFIED:20241023T050837Z
UID:241678-1729762200-1729769400@jblmcath.com
SUMMARY:CWOC Thursday Morning Faith Study Meeting
DESCRIPTION:All women are invited for our Thursday faith study meeting. \n\n\n\n\nPlease join us for our next session of the Thursday morning study: Home – Blessed Conversations Catholic Study on the Virtues of Mary. \nWe will have breakfast\, pray\, read chapter 9 and discuss the questions together.\nIf you are able\, please bring a dish/snack to share.  \nThere will be childcare so please don’t forget to RSVP to the childcare thread below. \nIt’s always a great pleasure to see you all each week  Thank you ladies and see you soon! \nIf this will be your first meeting\, we‘d love to meet you and we have extra copies of the study if you haven’t received one!
URL:https://jblmcath.com/event/cwoc-thursday-morning-faith-study-meeting-4/
LOCATION:Four Chaplains Memorial Chapel
CATEGORIES:Catholic Women of the Chapel
ATTACH;FMTTYPE=image/png:https://jblmcath.com/wp-content/uploads/2024/09/36780796_211703562814574_756914181201985536_n.png
END:VEVENT
BEGIN:VEVENT
DTSTART;TZID=America/Los_Angeles:20241031T091500
DTEND;TZID=America/Los_Angeles:20241031T233000
DTSTAMP:20260424T021022
CREATED:20240923T212632Z
LAST-MODIFIED:20241027T050029Z
UID:241545-1730366100-1730417400@jblmcath.com
SUMMARY:CWOC Thursday Morning Faith Study Meeting
DESCRIPTION:All women are invited for our Thursday faith study meeting. \n\n\n\n\nPlease join us for our next session of the Thursday morning study: Home – Blessed Conversations Catholic Study on the Virtues of Mary. \nWe will start with the rosary at 9:15am\, have breakfast\, read chapter 10 and discuss the questions together.\nIf you are able\, please bring a dish/snack to share.  \nThere will be childcare so please don’t forget to RSVP to the childcare thread below. \nIt’s always a great pleasure to see you all each week  Thank you ladies and see you soon! \nIf this will be your first meeting\, we‘d love to meet you and we have extra copies of the study if you haven’t received one!
URL:https://jblmcath.com/event/cwoc-thursday-morning-faith-study-meeting-3/
LOCATION:Four Chaplains Memorial Chapel
CATEGORIES:Catholic Women of the Chapel
ATTACH;FMTTYPE=image/png:https://jblmcath.com/wp-content/uploads/2024/09/36780796_211703562814574_756914181201985536_n.png
END:VEVENT
END:VCALENDAR