BEGIN:VCALENDAR
VERSION:2.0
PRODID:-//JBLM Catholic Community - ECPv6.15.20//NONSGML v1.0//EN
CALSCALE:GREGORIAN
METHOD:PUBLISH
X-ORIGINAL-URL:https://jblmcath.com
X-WR-CALDESC:Events for JBLM Catholic Community
REFRESH-INTERVAL;VALUE=DURATION:PT1H
X-Robots-Tag:noindex
X-PUBLISHED-TTL:PT1H
BEGIN:VTIMEZONE
TZID:America/Los_Angeles
BEGIN:DAYLIGHT
TZOFFSETFROM:-0800
TZOFFSETTO:-0700
TZNAME:PDT
DTSTART:20230312T100000
END:DAYLIGHT
BEGIN:STANDARD
TZOFFSETFROM:-0700
TZOFFSETTO:-0800
TZNAME:PST
DTSTART:20231105T090000
END:STANDARD
BEGIN:DAYLIGHT
TZOFFSETFROM:-0800
TZOFFSETTO:-0700
TZNAME:PDT
DTSTART:20240310T100000
END:DAYLIGHT
BEGIN:STANDARD
TZOFFSETFROM:-0700
TZOFFSETTO:-0800
TZNAME:PST
DTSTART:20241103T090000
END:STANDARD
BEGIN:DAYLIGHT
TZOFFSETFROM:-0800
TZOFFSETTO:-0700
TZNAME:PDT
DTSTART:20250309T100000
END:DAYLIGHT
BEGIN:STANDARD
TZOFFSETFROM:-0700
TZOFFSETTO:-0800
TZNAME:PST
DTSTART:20251102T090000
END:STANDARD
END:VTIMEZONE
BEGIN:VEVENT
DTSTART;TZID=America/Los_Angeles:20240903T180000
DTEND;TZID=America/Los_Angeles:20240903T200000
DTSTAMP:20260424T150615
CREATED:20240809T142928Z
LAST-MODIFIED:20240809T142928Z
UID:241343-1725386400-1725393600@jblmcath.com
SUMMARY:CWOC Fall 2024 Kick Off – Tuesday Evening Study
DESCRIPTION: All women are invited as we kick off the Fall 2024 Tuesday Evening Study! \n DATE: September 3\, 2024 TIME: 6:00 pm – 8:00 pm LOCATION: Four Chaplains Memorial Chapel (Bldg. 9120 Jackson Ave.\, JBLM)\nWe can’t wait to welcome you so together we can grow in faith and foster community this year!\n Coffee and other refreshments will be provided\n It would be greatly appreciated if you can bring a dish to share!\nNo Childcare provided for this event.\nPlease RSVP on the JBLM CWOC Facebook page : https://www.facebook.com/groups/588276761355700
URL:https://jblmcath.com/event/cwoc-fall-2024-kick-off-tuesday-evening-study/
LOCATION:Four Chaplains Memorial Chapel
CATEGORIES:Catholic Women of the Chapel
ATTACH;FMTTYPE=image/jpeg:https://jblmcath.com/wp-content/uploads/2024/08/CWOC-2024-Kick-Off-e1723213569730.jpg
END:VEVENT
BEGIN:VEVENT
DTSTART;TZID=America/Los_Angeles:20240905T093000
DTEND;TZID=America/Los_Angeles:20240905T233000
DTSTAMP:20260424T150615
CREATED:20240904T172046Z
LAST-MODIFIED:20240904T172046Z
UID:241463-1725528600-1725579000@jblmcath.com
SUMMARY:CWOC Thursday Morning Faith Study Meeting
DESCRIPTION:All women are invited for our first book study of the year. \nWe will meet at 9:30 am at 4 Chaplains Memorial Chapel on JBLM.  \nWe will read and Discuss questions we didn’t get to from last week and will start on the first Chapter of “Home // Blessed Conversations Catholic Study on the Virtues of Mary”.\nIf you haven’t been with us yet\, we have more copies to hand out. \nPlease bring a breakfast dish to share if you can! \nWe’d love to see you.\nChildcare will be available.
URL:https://jblmcath.com/event/cwoc-thursday-morning-faith-study-meeting/
LOCATION:Four Chaplains Memorial Chapel
CATEGORIES:Catholic Women of the Chapel
ATTACH;FMTTYPE=image/png:https://jblmcath.com/wp-content/uploads/2024/09/36780796_211703562814574_756914181201985536_n.png
END:VEVENT
BEGIN:VEVENT
DTSTART;TZID=America/Los_Angeles:20240910T180000
DTEND;TZID=America/Los_Angeles:20240910T200000
DTSTAMP:20260424T150615
CREATED:20240904T174031Z
LAST-MODIFIED:20240904T174031Z
UID:241472-1725991200-1725998400@jblmcath.com
SUMMARY:CWOC Tuesday Evening Faith Study Meeting
DESCRIPTION:All women are invited to the Catholic Women of the Church weekly Tuesday evening faith study meetings. \nWe meet at the Four Chaplain’s Memorial Chapel from 6:00pm – 8:00pm. \nWe are studying St. Teresa of Avila’s Interior Castle\, Study Edition\, 2nd Edition. If you haven’t been with us yet\, we have more copies to hand out.  \n\nPlease bring a dish to share if you can! \n\nWe’d love to see you.
URL:https://jblmcath.com/event/cwoc-tuesday-evening-faith-study-meeting/
LOCATION:WA
CATEGORIES:Catholic Women of the Chapel
ATTACH;FMTTYPE=image/png:https://jblmcath.com/wp-content/uploads/2024/09/36780796_211703562814574_756914181201985536_n.png
END:VEVENT
BEGIN:VEVENT
DTSTART;TZID=America/Los_Angeles:20240917T180000
DTEND;TZID=America/Los_Angeles:20240917T200000
DTSTAMP:20260424T150615
CREATED:20240915T182921Z
LAST-MODIFIED:20240915T182921Z
UID:241513-1726596000-1726603200@jblmcath.com
SUMMARY:CWOC Tuesday Evening Faith Study Meeting
DESCRIPTION:All women are invited to the Catholic Women of the Church weekly Tuesday evening faith study meetings. \nWe meet at the Four Chaplain’s Memorial Chapel from 6:00pm – 8:00pm. \nJoin us as we discuss The Interior Castle by Saint Theresa of Avila. We will be discussing Chapter 1.\n\nIf you were unable to get the readings at the last meeting you can listen to it here:\nhttps://youtu.be/J63e3XNA9WA?si=oDzm3y9eeYXIktSC\n\nPlease bring a dish to share.
URL:https://jblmcath.com/event/cwoc-tuesday-evening-faith-study-meeting-2/
LOCATION:WA
CATEGORIES:Catholic Women of the Chapel
ATTACH;FMTTYPE=image/png:https://jblmcath.com/wp-content/uploads/2024/09/36780796_211703562814574_756914181201985536_n.png
END:VEVENT
BEGIN:VEVENT
DTSTART;TZID=America/Los_Angeles:20240919T093000
DTEND;TZID=America/Los_Angeles:20240919T233000
DTSTAMP:20260424T150615
CREATED:20240915T183321Z
LAST-MODIFIED:20240915T183321Z
UID:241515-1726738200-1726788600@jblmcath.com
SUMMARY:CWOC Thursday Morning Faith Study Meeting
DESCRIPTION:All women are invited for our Thursday faith study meeting. \n\n\nPlease join us for our next session of the Tuesday morning study: Home – Blessed Conversations Catholic Study on the Virtues of Mary. \n\nWe will have breakfast\, read the next chapter and discuss the questions together.\n\nPlease bring a dish to share if you can.  \n\nChildcare will be provided.\n\nPlease join us if you haven’t been to any events\, enjoy some good and make new friends. We‘d love to meet you and have extra copies of the study if you haven’t received one.
URL:https://jblmcath.com/event/cwoc-thursday-morning-faith-study-meeting-2/
LOCATION:Four Chaplains Memorial Chapel
CATEGORIES:Catholic Women of the Chapel
ATTACH;FMTTYPE=image/png:https://jblmcath.com/wp-content/uploads/2024/09/36780796_211703562814574_756914181201985536_n.png
END:VEVENT
END:VCALENDAR