BEGIN:VCALENDAR
VERSION:2.0
PRODID:-//JBLM Catholic Community - ECPv6.15.20//NONSGML v1.0//EN
CALSCALE:GREGORIAN
METHOD:PUBLISH
X-ORIGINAL-URL:https://jblmcath.com
X-WR-CALDESC:Events for JBLM Catholic Community
REFRESH-INTERVAL;VALUE=DURATION:PT1H
X-Robots-Tag:noindex
X-PUBLISHED-TTL:PT1H
BEGIN:VTIMEZONE
TZID:America/Los_Angeles
BEGIN:DAYLIGHT
TZOFFSETFROM:-0800
TZOFFSETTO:-0700
TZNAME:PDT
DTSTART:20220313T100000
END:DAYLIGHT
BEGIN:STANDARD
TZOFFSETFROM:-0700
TZOFFSETTO:-0800
TZNAME:PST
DTSTART:20221106T090000
END:STANDARD
BEGIN:DAYLIGHT
TZOFFSETFROM:-0800
TZOFFSETTO:-0700
TZNAME:PDT
DTSTART:20230312T100000
END:DAYLIGHT
BEGIN:STANDARD
TZOFFSETFROM:-0700
TZOFFSETTO:-0800
TZNAME:PST
DTSTART:20231105T090000
END:STANDARD
BEGIN:DAYLIGHT
TZOFFSETFROM:-0800
TZOFFSETTO:-0700
TZNAME:PDT
DTSTART:20240310T100000
END:DAYLIGHT
BEGIN:STANDARD
TZOFFSETFROM:-0700
TZOFFSETTO:-0800
TZNAME:PST
DTSTART:20241103T090000
END:STANDARD
BEGIN:DAYLIGHT
TZOFFSETFROM:-0800
TZOFFSETTO:-0700
TZNAME:PDT
DTSTART:20250309T100000
END:DAYLIGHT
BEGIN:STANDARD
TZOFFSETFROM:-0700
TZOFFSETTO:-0800
TZNAME:PST
DTSTART:20251102T090000
END:STANDARD
BEGIN:DAYLIGHT
TZOFFSETFROM:-0800
TZOFFSETTO:-0700
TZNAME:PDT
DTSTART:20260308T100000
END:DAYLIGHT
BEGIN:STANDARD
TZOFFSETFROM:-0700
TZOFFSETTO:-0800
TZNAME:PST
DTSTART:20261101T090000
END:STANDARD
END:VTIMEZONE
BEGIN:VEVENT
DTSTART;TZID=America/Los_Angeles:20230917T103000
DTEND;TZID=America/Los_Angeles:20230917T113000
DTSTAMP:20260425T043119
CREATED:20230714T181629Z
LAST-MODIFIED:20230714T181629Z
UID:239099-1694946600-1694950200@jblmcath.com
SUMMARY:Religious Education Classes
DESCRIPTION:
URL:https://jblmcath.com/event/religious-education-classes/
LOCATION:Lewis Main Chapel\, Building 2001\, South Liggett and Ninth Division Drive\, Fort Lewis\, WA\, 98433\, United States
CATEGORIES:Catholic Religious Education
ATTACH;FMTTYPE=image/jpeg:https://jblmcath.com/wp-content/uploads/2022/11/portrait-of-multi-cultural-children-hanging-out-with-friends-in-countryside-together.jpg
END:VEVENT
BEGIN:VEVENT
DTSTART;TZID=America/Los_Angeles:20230917T103000
DTEND;TZID=America/Los_Angeles:20230917T113000
DTSTAMP:20260425T043119
CREATED:20230714T181629Z
LAST-MODIFIED:20230714T181629Z
UID:239099-1694946600-1694950200@jblmcath.com
SUMMARY:Religious Education Classes
DESCRIPTION:
URL:https://jblmcath.com/event/religious-education-classes/
LOCATION:Lewis Main Chapel\, Building 2001\, South Liggett and Ninth Division Drive\, Fort Lewis\, WA\, 98433\, United States
CATEGORIES:Catholic Religious Education
ATTACH;FMTTYPE=image/jpeg:https://jblmcath.com/wp-content/uploads/2022/11/portrait-of-multi-cultural-children-hanging-out-with-friends-in-countryside-together.jpg
END:VEVENT
BEGIN:VEVENT
DTSTART;TZID=America/Los_Angeles:20230917T103000
DTEND;TZID=America/Los_Angeles:20230917T113000
DTSTAMP:20260425T043119
CREATED:20230714T181629Z
LAST-MODIFIED:20230714T181629Z
UID:239099-1694946600-1694950200@jblmcath.com
SUMMARY:Religious Education Classes
DESCRIPTION:
URL:https://jblmcath.com/event/religious-education-classes/
LOCATION:Lewis Main Chapel\, Building 2001\, South Liggett and Ninth Division Drive\, Fort Lewis\, WA\, 98433\, United States
CATEGORIES:Catholic Religious Education
ATTACH;FMTTYPE=image/jpeg:https://jblmcath.com/wp-content/uploads/2022/11/portrait-of-multi-cultural-children-hanging-out-with-friends-in-countryside-together.jpg
END:VEVENT
BEGIN:VEVENT
DTSTART;VALUE=DATE:20240908
DTEND;VALUE=DATE:20240909
DTSTAMP:20260425T043119
CREATED:20240904T174604Z
LAST-MODIFIED:20240904T174604Z
UID:241475-1725753600-1725839999@jblmcath.com
SUMMARY:Catholic Religious Education and Sacramental Preparation
DESCRIPTION:SEPTEMBER 8 is the first day of Catholic Religious Education and Sacramental Preparation for children and adults. \nPlease register as soon as you can in the Catholic Support Office.
URL:https://jblmcath.com/event/catholic-religious-education-and-sacramental-preparation/
LOCATION:Lewis Main Post Chapel
CATEGORIES:Catholic Religious Education
ATTACH;FMTTYPE=image/jpeg:https://jblmcath.com/wp-content/uploads/2022/11/parent-teaching-260x182-1.jpeg
END:VEVENT
BEGIN:VEVENT
DTSTART;TZID=America/Los_Angeles:20251101T093000
DTEND;TZID=America/Los_Angeles:20251101T110000
DTSTAMP:20260425T043119
CREATED:20251017T214950Z
LAST-MODIFIED:20251023T214624Z
UID:245132-1761989400-1761994800@jblmcath.com
SUMMARY:Lecture Series: Catechism of the Catholic Church with Fr. Ethel
DESCRIPTION:Come grow your Catholic faith and knowledge  \nFriends\, you are invited to come grow in your knowledge of our Catholic faith and teachings. \nFr. Ethel will be teaching from the Catechism of the Catholic Church. Both adults and youth are invited to partake in this study. \nBooks will not be provided. Please bring your own books (or in digital format) the Bible and the Catechism of the Catholic Church book. If \nDates: Every Saturday in November (Nov. 1\,8\,15\,22\,29\, 2025) \nTime: 0930 am to 1100 am \nLocation: Fellowship Hall\, Main Post Chapel \nInstructor: Fr. Ethel (mobile number: 516-514-5430 and email: ethel0702000@yahoo.com)
URL:https://jblmcath.com/event/catechism-with-fr-ethel/
LOCATION:Lewis Main Post Chapel
CATEGORIES:Catholic Religious Education
ATTACH;FMTTYPE=image/jpeg:https://jblmcath.com/wp-content/uploads/2025/10/catechism-Fr-Ethel-e1761254933304.jpg
END:VEVENT
BEGIN:VEVENT
DTSTART;TZID=America/Los_Angeles:20251108T093000
DTEND;TZID=America/Los_Angeles:20251108T110000
DTSTAMP:20260425T043119
CREATED:20251017T215354Z
LAST-MODIFIED:20251023T214909Z
UID:245134-1762594200-1762599600@jblmcath.com
SUMMARY:Lecture Series: Catechism of the Catholic Church with Fr. Ethel
DESCRIPTION:Come grow your Catholic faith and knowledge  \nFriends\, you are invited to come grow in your knowledge of our Catholic faith and teachings. \nFr. Ethel will be teaching from the Catechism of the Catholic Church. Both adults and youth are invited to partake in this study. \nBooks will not be provided. Please bring your own books (or in digital format) the Bible and the Catechism of the Catholic Church book. If \nDates: Every Saturday in November (Nov. 1\,8\,15\,22\,29\, 2025) \nTime: 0930 am to 1100 am \nLocation: Fellowship Hall\, Main Post Chapel \nInstructor: Fr. Ethel (mobile number: 516-514-5430 and email: ethel0702000@yahoo.com)
URL:https://jblmcath.com/event/catechism-with-fr-ethel-2/
LOCATION:Lewis Main Chapel\, Fellowship Hall/Activity Room\, Bldg 2001\, South Liggett and Ninth Division Drive\, Fort Lewis\, WA\, 98433\, United States
CATEGORIES:Catholic Religious Education
ATTACH;FMTTYPE=image/jpeg:https://jblmcath.com/wp-content/uploads/2025/10/catechism-Fr-Ethel-e1761254933304.jpg
END:VEVENT
BEGIN:VEVENT
DTSTART;TZID=America/Los_Angeles:20251115T093000
DTEND;TZID=America/Los_Angeles:20251115T110000
DTSTAMP:20260425T043119
CREATED:20251023T215215Z
LAST-MODIFIED:20251023T215215Z
UID:245168-1763199000-1763204400@jblmcath.com
SUMMARY:Lecture Series: Catechism of the Catholic Church with Fr. Ethel
DESCRIPTION:Come grow your Catholic faith and knowledge  \nFriends\, you are invited to come grow in your knowledge of our Catholic faith and teachings. \nFr. Ethel will be teaching from the Catechism of the Catholic Church. Both adults and youth are invited to partake in this study. \nBooks will not be provided. Please bring your own books (or in digital format) the Bible and the Catechism of the Catholic Church book. If \nDates: Every Saturday in November (Nov. 1\,8\,15\,22\,29\, 2025) \nTime: 0930 am to 1100 am \nLocation: Fellowship Hall\, Main Post Chapel \nInstructor: Fr. Ethel (mobile number: 516-514-5430 and email: ethel0702000@yahoo.com)
URL:https://jblmcath.com/event/lecture-series-catechism-of-the-catholic-church-with-fr-ethel/
LOCATION:Lewis Main Chapel\, Fellowship Hall/Activity Room\, Bldg 2001\, South Liggett and Ninth Division Drive\, Fort Lewis\, WA\, 98433\, United States
CATEGORIES:Catholic Religious Education
ATTACH;FMTTYPE=image/jpeg:https://jblmcath.com/wp-content/uploads/2025/10/catechism-Fr-Ethel-e1761254933304.jpg
END:VEVENT
BEGIN:VEVENT
DTSTART;VALUE=DATE:20251121
DTEND;VALUE=DATE:20251123
DTSTAMP:20260425T043119
CREATED:20251017T214043Z
LAST-MODIFIED:20251017T214043Z
UID:245130-1763683200-1763855999@jblmcath.com
SUMMARY:Faith Formation Seminar
DESCRIPTION:The AMS Director of Faith Formation\, Jose Amaya will lead a faith formation seminar at JBLM. He will help us with lesson planning\, praying with our students\, curriculum and answering any questions we have along with other things. Once the class is completed\, everyone who attended will be certified catechists through AMS.
URL:https://jblmcath.com/event/faith-formation-seminar/
LOCATION:Lewis Main Chapel\, Fellowship Hall/Activity Room\, Bldg 2001\, South Liggett and Ninth Division Drive\, Fort Lewis\, WA\, 98433\, United States
CATEGORIES:Catholic Religious Education
ATTACH;FMTTYPE=image/png:https://jblmcath.com/wp-content/uploads/2025/10/oct-17-bulletin-e1760735817100.png
END:VEVENT
BEGIN:VEVENT
DTSTART;TZID=America/Los_Angeles:20251122T093000
DTEND;TZID=America/Los_Angeles:20251122T110000
DTSTAMP:20260425T043119
CREATED:20251023T215438Z
LAST-MODIFIED:20251023T215438Z
UID:245172-1763803800-1763809200@jblmcath.com
SUMMARY:Lecture Series: Catechism of the Catholic Church with Fr. Ethel
DESCRIPTION:Come grow your Catholic faith and knowledge  \nFriends\, you are invited to come grow in your knowledge of our Catholic faith and teachings. \nFr. Ethel will be teaching from the Catechism of the Catholic Church. Both adults and youth are invited to partake in this study. \nBooks will not be provided. Please bring your own books (or in digital format) the Bible and the Catechism of the Catholic Church book. If \nDates: Every Saturday in November (Nov. 1\,8\,15\,22\,29\, 2025) \nTime: 0930 am to 1100 am \nLocation: Fellowship Hall\, Main Post Chapel \nInstructor: Fr. Ethel (mobile number: 516-514-5430 and email: ethel0702000@yahoo.com)
URL:https://jblmcath.com/event/lecture-series-catechism-of-the-catholic-church-with-fr-ethel-2/
LOCATION:Lewis Main Chapel\, Fellowship Hall/Activity Room\, Bldg 2001\, South Liggett and Ninth Division Drive\, Fort Lewis\, WA\, 98433\, United States
CATEGORIES:Catholic Religious Education
ATTACH;FMTTYPE=image/jpeg:https://jblmcath.com/wp-content/uploads/2025/10/catechism-Fr-Ethel-e1761254933304.jpg
END:VEVENT
BEGIN:VEVENT
DTSTART;TZID=America/Los_Angeles:20251129T093000
DTEND;TZID=America/Los_Angeles:20251129T110000
DTSTAMP:20260425T043119
CREATED:20251023T215856Z
LAST-MODIFIED:20251023T215856Z
UID:245174-1764408600-1764414000@jblmcath.com
SUMMARY:Lecture Series: Catechism of the Catholic Church with Fr. Ethel
DESCRIPTION:Come grow your Catholic faith and knowledge  \nFriends\, you are invited to come grow in your knowledge of our Catholic faith and teachings. \nFr. Ethel will be teaching from the Catechism of the Catholic Church. Both adults and youth are invited to partake in this study. \nBooks will not be provided. Please bring your own books (or in digital format) the Bible and the Catechism of the Catholic Church book. If \nDates: Every Saturday in November (Nov. 1\,8\,15\,22\,29\, 2025) \nTime: 0930 am to 1100 am \nLocation: Fellowship Hall\, Main Post Chapel \nInstructor: Fr. Ethel (mobile number: 516-514-5430 and email: ethel0702000@yahoo.com)
URL:https://jblmcath.com/event/lecture-series-catechism-of-the-catholic-church-with-fr-ethel-3/
LOCATION:Lewis Main Chapel\, Fellowship Hall/Activity Room\, Bldg 2001\, South Liggett and Ninth Division Drive\, Fort Lewis\, WA\, 98433\, United States
CATEGORIES:Catholic Religious Education
ATTACH;FMTTYPE=image/jpeg:https://jblmcath.com/wp-content/uploads/2025/10/catechism-Fr-Ethel-e1761254933304.jpg
END:VEVENT
END:VCALENDAR