BEGIN:VCALENDAR
VERSION:2.0
PRODID:-//JBLM Catholic Community - ECPv6.15.20//NONSGML v1.0//EN
CALSCALE:GREGORIAN
METHOD:PUBLISH
X-WR-CALNAME:JBLM Catholic Community
X-ORIGINAL-URL:https://jblmcath.com
X-WR-CALDESC:Events for JBLM Catholic Community
REFRESH-INTERVAL;VALUE=DURATION:PT1H
X-Robots-Tag:noindex
X-PUBLISHED-TTL:PT1H
BEGIN:VTIMEZONE
TZID:America/Los_Angeles
BEGIN:DAYLIGHT
TZOFFSETFROM:-0800
TZOFFSETTO:-0700
TZNAME:PDT
DTSTART:20230312T100000
END:DAYLIGHT
BEGIN:STANDARD
TZOFFSETFROM:-0700
TZOFFSETTO:-0800
TZNAME:PST
DTSTART:20231105T090000
END:STANDARD
BEGIN:DAYLIGHT
TZOFFSETFROM:-0800
TZOFFSETTO:-0700
TZNAME:PDT
DTSTART:20240310T100000
END:DAYLIGHT
BEGIN:STANDARD
TZOFFSETFROM:-0700
TZOFFSETTO:-0800
TZNAME:PST
DTSTART:20241103T090000
END:STANDARD
BEGIN:DAYLIGHT
TZOFFSETFROM:-0800
TZOFFSETTO:-0700
TZNAME:PDT
DTSTART:20250309T100000
END:DAYLIGHT
BEGIN:STANDARD
TZOFFSETFROM:-0700
TZOFFSETTO:-0800
TZNAME:PST
DTSTART:20251102T090000
END:STANDARD
END:VTIMEZONE
BEGIN:VEVENT
DTSTART;TZID=America/Los_Angeles:20240903T180000
DTEND;TZID=America/Los_Angeles:20240903T200000
DTSTAMP:20260423T161846
CREATED:20240809T142928Z
LAST-MODIFIED:20240809T142928Z
UID:241343-1725386400-1725393600@jblmcath.com
SUMMARY:CWOC Fall 2024 Kick Off – Tuesday Evening Study
DESCRIPTION: All women are invited as we kick off the Fall 2024 Tuesday Evening Study! \n DATE: September 3\, 2024 TIME: 6:00 pm – 8:00 pm LOCATION: Four Chaplains Memorial Chapel (Bldg. 9120 Jackson Ave.\, JBLM)\nWe can’t wait to welcome you so together we can grow in faith and foster community this year!\n Coffee and other refreshments will be provided\n It would be greatly appreciated if you can bring a dish to share!\nNo Childcare provided for this event.\nPlease RSVP on the JBLM CWOC Facebook page : https://www.facebook.com/groups/588276761355700
URL:https://jblmcath.com/event/cwoc-fall-2024-kick-off-tuesday-evening-study/
LOCATION:Four Chaplains Memorial Chapel
CATEGORIES:Catholic Women of the Chapel
ATTACH;FMTTYPE=image/jpeg:https://jblmcath.com/wp-content/uploads/2024/08/CWOC-2024-Kick-Off-e1723213569730.jpg
END:VEVENT
END:VCALENDAR